BEGIN:VCALENDAR
VERSION:2.0
PRODID:-//Clean Truck and Bus Voucher Incentive Project | California HVIP - ECPv6.15.20//NONSGML v1.0//EN
CALSCALE:GREGORIAN
METHOD:PUBLISH
X-WR-CALNAME:Clean Truck and Bus Voucher Incentive Project | California HVIP
X-ORIGINAL-URL:https://californiahvip.org
X-WR-CALDESC:Events for Clean Truck and Bus Voucher Incentive Project | California HVIP
REFRESH-INTERVAL;VALUE=DURATION:PT1H
X-Robots-Tag:noindex
X-PUBLISHED-TTL:PT1H
BEGIN:VTIMEZONE
TZID:America/Los_Angeles
BEGIN:DAYLIGHT
TZOFFSETFROM:-0800
TZOFFSETTO:-0700
TZNAME:PDT
DTSTART:20230312T100000
END:DAYLIGHT
BEGIN:STANDARD
TZOFFSETFROM:-0700
TZOFFSETTO:-0800
TZNAME:PST
DTSTART:20231105T090000
END:STANDARD
BEGIN:DAYLIGHT
TZOFFSETFROM:-0800
TZOFFSETTO:-0700
TZNAME:PDT
DTSTART:20240310T100000
END:DAYLIGHT
BEGIN:STANDARD
TZOFFSETFROM:-0700
TZOFFSETTO:-0800
TZNAME:PST
DTSTART:20241103T090000
END:STANDARD
BEGIN:DAYLIGHT
TZOFFSETFROM:-0800
TZOFFSETTO:-0700
TZNAME:PDT
DTSTART:20250309T100000
END:DAYLIGHT
BEGIN:STANDARD
TZOFFSETFROM:-0700
TZOFFSETTO:-0800
TZNAME:PST
DTSTART:20251102T090000
END:STANDARD
END:VTIMEZONE
BEGIN:VEVENT
DTSTART;TZID=America/Los_Angeles:20240520T084500
DTEND;TZID=America/Los_Angeles:20240523T140000
DTSTAMP:20260425T032909
CREATED:20251125T022351Z
LAST-MODIFIED:20251125T025124Z
UID:10000003-1716194700-1716472800@californiahvip.org
SUMMARY:ACT Expo 2024 in Las Vegas
DESCRIPTION:Advanced Clean Transportation Expo\nDate: May 20-23\, 2024\nLocation: Las Vegas Convention Center\, 3150 Paradise Road\, Las Vegas\, NV 89109 \nFleet-Focused Educational Conference\nGain insight into the trends\, technologies\, and policies transforming clean commercial transportation. Fleets attend to: \n\nHear low- and zero-emission vehicle case studies from early adopter fleets\nLearn how to take advantage of vehicle and infrastructure funding opportunities\nUnderstand how to stay ahead of the ever-changing regulatory landscape\nDiscover the latest technologies and services to support fleet sustainability\n\nAdvanced Vehicle Technology Showcase\nThe world’s largest OEMs and suppliers present the latest advanced vehicles\, clean fuels\, sustainable transportation technologies and services. \n\nConnect with 350+ sponsors & exhibitors\nSee 250+ low- and zero-emission commercial vehicles\nWatch vehicle unveilings and major announcements live\nParticipate in the advanced commercial vehicle Ride & Drive event\n\nRegister online today!
URL:https://californiahvip.org/events/act-expo-2024-in-las-vegas-5-20-2024-5-23-2024/
LOCATION:Las Vegas Convention Center\, 3150 Paradise Road\, Las Vegas\, NV\, 89109\, United States
CATEGORIES:In-Person
END:VEVENT
END:VCALENDAR